BEGIN:VCALENDAR
VERSION:2.0
PRODID:-//Agriculture / Weights &amp; Measures - ECPv6.15.20//NONSGML v1.0//EN
CALSCALE:GREGORIAN
METHOD:PUBLISH
X-ORIGINAL-URL:https://awm.venturacounty.gov
X-WR-CALDESC:Events for Agriculture / Weights &amp; Measures
REFRESH-INTERVAL;VALUE=DURATION:PT1H
X-Robots-Tag:noindex
X-PUBLISHED-TTL:PT1H
BEGIN:VTIMEZONE
TZID:America/Los_Angeles
BEGIN:DAYLIGHT
TZOFFSETFROM:-0800
TZOFFSETTO:-0700
TZNAME:PDT
DTSTART:20240310T100000
END:DAYLIGHT
BEGIN:STANDARD
TZOFFSETFROM:-0700
TZOFFSETTO:-0800
TZNAME:PST
DTSTART:20241103T090000
END:STANDARD
BEGIN:DAYLIGHT
TZOFFSETFROM:-0800
TZOFFSETTO:-0700
TZNAME:PDT
DTSTART:20250309T100000
END:DAYLIGHT
BEGIN:STANDARD
TZOFFSETFROM:-0700
TZOFFSETTO:-0800
TZNAME:PST
DTSTART:20251102T090000
END:STANDARD
BEGIN:DAYLIGHT
TZOFFSETFROM:-0800
TZOFFSETTO:-0700
TZNAME:PDT
DTSTART:20260308T100000
END:DAYLIGHT
BEGIN:STANDARD
TZOFFSETFROM:-0700
TZOFFSETTO:-0800
TZNAME:PST
DTSTART:20261101T090000
END:STANDARD
END:VTIMEZONE
BEGIN:VEVENT
DTSTART;TZID=America/Los_Angeles:20251216T133000
DTEND;TZID=America/Los_Angeles:20251216T143000
DTSTAMP:20260424T211518
CREATED:20251205T185519Z
LAST-MODIFIED:20251205T185519Z
UID:10000090-1765891800-1765895400@awm.venturacounty.gov
SUMMARY:Electric Vehicle Supply Equipment (EVSE) Charger Info Hour
DESCRIPTION:The California Department of Food and Agriculture-Division of Measurement Standards (https://www.cdfa.ca.gov/dms/ ) will host an Electric Vehicle Supply Equipment (EVSE) Charger Info Hour on Tuesday\, December 16\, 2025 from 1:30PM to 2:30PM on Microsoft Teams. The Info Hour will provide updates and will address questions from stakeholders on the legal requirements for EVSE chargers installed for commercial purposes. \nTo submit a request for access to the Teams Link\, or to submit a question that you would like addressed\, please email DMS@cdfa.ca.gov and include “EVSE Info Hour” in the subject line.”
URL:https://awm.venturacounty.gov/event/electric-vehicle-supply-equipment-evse-charger-info-hour/
LOCATION:
CATEGORIES:Events
END:VEVENT
END:VCALENDAR